BEGIN:VCALENDAR
VERSION:2.0
PRODID:https://www.ecadstar.com/de
BEGIN:VEVENT
UID:69e5417a75550
DTSTART;TZID=Europe/London:20230920T064500
SEQUENCE:0
TRANSP:OPAQUE
DTEND;TZID=Europe/London:20230921T154500
URL:https://www.ecadstar.com/de/event/fed-conference-2023-augsburg/
LOCATION:Kongresshotel am Park Augsburg\nGögginger Straße 10\n86159 Augsb
 urg\n
SUMMARY:FED Conference 2023 &#8211\; Augsburg
CLASS:PUBLIC
DESCRIPTION:Wir freuen uns darauf\, Sie auf der FED-Konferenz 2023 zu sehen
 .
DTSTAMP:20260419T215626Z
END:VEVENT
END:VCALENDAR