BEGIN:VCALENDAR
VERSION:2.0
PRODID:https://www.ecadstar.com/fr
BEGIN:VEVENT
UID:69e50169f05cd
DTSTART;TZID=Europe/London:20260421T090000
SEQUENCE:0
TRANSP:OPAQUE
DTEND;TZID=Europe/London:20260422T160000
URL:https://www.ecadstar.com/fr/event/rsd3-valence-2026/
LOCATION:JOIN US Palais des expositions Jacques Chirac 16 avenue Georges Cl
 emenceau 26000 Valence (Drôme)\, France
SUMMARY:RSD3 Valence 2026
CLASS:PUBLIC
DESCRIPTION:— Stand 21E avec Novacad
DTSTAMP:20260419T172305Z
END:VEVENT
END:VCALENDAR