BEGIN:VCALENDAR
VERSION:2.0
PRODID:https://www.ecadstar.com/fr
BEGIN:VEVENT
UID:69e52d937883f
DTSTART;TZID=Europe/London:20250917T073000
SEQUENCE:0
TRANSP:OPAQUE
DTEND;TZID=Europe/London:20250918T153000
URL:https://www.ecadstar.com/fr/event/sido-lyon/
LOCATION:Cité Internationale\, Lyon\, France
SUMMARY:SIDO Lyon 2025
CLASS:PUBLIC
DESCRIPTION:— Stand O409 avec Novacad
DTSTAMP:20260419T203131Z
END:VEVENT
END:VCALENDAR